BEGIN:VCALENDAR
VERSION:2.0
PRODID:-//KSB-MOL - ECPv6.15.20//NONSGML v1.0//EN
CALSCALE:GREGORIAN
METHOD:PUBLISH
X-ORIGINAL-URL:https://www.ksb-mol.de/%20startseite%202025
X-WR-CALDESC:Veranstaltungen für KSB-MOL
REFRESH-INTERVAL;VALUE=DURATION:PT1H
X-Robots-Tag:noindex
X-PUBLISHED-TTL:PT1H
BEGIN:VTIMEZONE
TZID:Europe/Berlin
BEGIN:DAYLIGHT
TZOFFSETFROM:+0100
TZOFFSETTO:+0200
TZNAME:CEST
DTSTART:20240331T010000
END:DAYLIGHT
BEGIN:STANDARD
TZOFFSETFROM:+0200
TZOFFSETTO:+0100
TZNAME:CET
DTSTART:20241027T010000
END:STANDARD
BEGIN:DAYLIGHT
TZOFFSETFROM:+0100
TZOFFSETTO:+0200
TZNAME:CEST
DTSTART:20250330T010000
END:DAYLIGHT
BEGIN:STANDARD
TZOFFSETFROM:+0200
TZOFFSETTO:+0100
TZNAME:CET
DTSTART:20251026T010000
END:STANDARD
BEGIN:DAYLIGHT
TZOFFSETFROM:+0100
TZOFFSETTO:+0200
TZNAME:CEST
DTSTART:20260329T010000
END:DAYLIGHT
BEGIN:STANDARD
TZOFFSETFROM:+0200
TZOFFSETTO:+0100
TZNAME:CET
DTSTART:20261025T010000
END:STANDARD
END:VTIMEZONE
BEGIN:VEVENT
DTSTART;TZID=Europe/Berlin:20250613T090000
DTEND;TZID=Europe/Berlin:20250613T140000
DTSTAMP:20260422T093107
CREATED:20260421T100355Z
LAST-MODIFIED:20260421T100355Z
UID:3190-1749805200-1749823200@www.ksb-mol.de
SUMMARY:24. Deutsch-Polnische Kitaolympiade 2025
DESCRIPTION:An einem Freitag\, den 13. kann nur alles gut gehen!!! Wir laden alle Kitas der Region und aus der Nachbarschaft des Landkreises MOL herzlich zur 24. deutsch-Polnischen Kitaolympiade nach Strausberg in den Sport- und Erholungspark ein. Hier zählt nicht nur der Sieg\, sondern die gemeinsame Freude am Sport! Mit Gästen aus Kostrzyn\, Moryn und Debno wird das eine internationale Begegnung wie bei den Großveranstaltungen der Profis. In Kooperation mit der polnischen Kita „Pod Topola“ aus Kostrzyn geht es um Begegnung\, den Austausch und vor allem um das gemeinsame Erleben. Sport trägt uns über die Grenzen hinweg und verbnindet uns. \nDie Veranstaltung wird durch die Euroregion Viadrina gefördert. Unterstützt werden werden wir von vielen fleißigen ehrenamtlichen Helfern. \n \n 
URL:https://www.ksb-mol.de/%20startseite%202025/event/24-deutsch-polnische-kitaolympiade-2025/
LOCATION:SEP Strausberg\, Sport- und Erholungspark 35\, Strausberg\, Brandenburg\, 15344\, Deutschland
ATTACH;FMTTYPE=image/jpeg:https://www.ksb-mol.de/wp-content/uploads/2023/06/P_871223-300dpi-scaled.jpg
END:VEVENT
END:VCALENDAR